BEGIN:VCALENDAR
PRODID:-//Microsoft Corporation//Outlook 14.0 MIMEDIR//EN
VERSION:2.0
METHOD:PUBLISH
BEGIN:VTIMEZONE
TZID:Russian Standard Time
BEGIN:STANDARD
TZOFFSETFROM:+0300
TZOFFSETTO:+0300
END:STANDARD
END:VTIMEZONE
BEGIN:VEVENT
CLASS:PUBLIC
DESCRIPTION:WOOD&rsquo;s Prague Winter Wonderland EME Conference

DTSTART;VALUE=DATE:20221205
DTEND;VALUE=DATE:20221210
SUMMARY;LANGUAGE=ru:WOOD’s Prague Winter Wonderland EME Conference
LOCATION;LANGUAGE=ru:
UID:91cb8c61-440c-4c39-8669-d67b62c9e376
BEGIN:VALARM
TRIGGER:-PT1D
ACTION:DISPLAY
DESCRIPTION:Reminder
END:VALARM
END:VEVENT
END:VCALENDAR
