BEGIN:VCALENDAR
PRODID:-//Microsoft Corporation//Outlook 14.0 MIMEDIR//EN
VERSION:2.0
METHOD:PUBLISH
BEGIN:VTIMEZONE
TZID:Russian Standard Time
BEGIN:STANDARD
TZOFFSETFROM:+0300
TZOFFSETTO:+0300
END:STANDARD
END:VTIMEZONE
BEGIN:VEVENT
CLASS:PUBLIC
DESCRIPTION:WOOD&rsquo;s Prague EME Spring Conference

DTSTART;VALUE=DATE:20220608
DTEND;VALUE=DATE:20220611
SUMMARY;LANGUAGE=ru:WOOD’s Prague EME Spring Conference
LOCATION;LANGUAGE=ru:
UID:dccb7be8-d1a2-4eed-84d7-bc19e8947adb
BEGIN:VALARM
TRIGGER:-PT1D
ACTION:DISPLAY
DESCRIPTION:Reminder
END:VALARM
END:VEVENT
END:VCALENDAR
